BEGIN:VCALENDAR
VERSION:2.0
PRODID:-//Premier Chess Academy Corporation - ECPv6.15.11//NONSGML v1.0//EN
CALSCALE:GREGORIAN
METHOD:PUBLISH
X-WR-CALNAME:Premier Chess Academy Corporation
X-ORIGINAL-URL:https://premierchessacademy.com
X-WR-CALDESC:Events for Premier Chess Academy Corporation
REFRESH-INTERVAL;VALUE=DURATION:PT1H
X-Robots-Tag:noindex
X-PUBLISHED-TTL:PT1H
BEGIN:VTIMEZONE
TZID:Asia/Kolkata
BEGIN:STANDARD
TZOFFSETFROM:+0530
TZOFFSETTO:+0530
TZNAME:IST
DTSTART:20240101T000000
END:STANDARD
END:VTIMEZONE
BEGIN:VEVENT
DTSTART;TZID=Asia/Kolkata:20261017T090000
DTEND;TZID=Asia/Kolkata:20261017T180000
DTSTAMP:20260424T193803
CREATED:20251127T123306Z
LAST-MODIFIED:20251127T123306Z
UID:9110-1792227600-1792260000@premierchessacademy.com
SUMMARY:Open\, World Chess Fiesta - Rapid Tournament @ Trivandrum
DESCRIPTION:Venue will be confirmed shortly. Register via ActivePass or Contact us: +91-87148 81281
URL:https://premierchessacademy.com/event/open-world-chess-fiesta-rapid-tournament-trivandrum-10/
LOCATION:Kerala
CATEGORIES:EVENTS CALENDAR
ATTACH;FMTTYPE=image/png:https://premierchessacademy.com/wp-content/uploads/2024/10/1_logo_-08.png
END:VEVENT
BEGIN:VEVENT
DTSTART;VALUE=DATE:20261002
DTEND;VALUE=DATE:20261004
DTSTAMP:20260424T193803
CREATED:20251127T124947Z
LAST-MODIFIED:20251127T124947Z
UID:9135-1790899200-1791071999@premierchessacademy.com
SUMMARY:U-15 - Junior\, World Chess Fiesta - "Classical 2 Days" Tournament @ Trivandrum
DESCRIPTION:Register via ActivePass or Contact us: +91-87148 81281
URL:https://premierchessacademy.com/event/u-15-junior-world-chess-fiesta-classical-2-days-tournament-trivandrum/
LOCATION:PCA – TVM Location\, PREMIER CHESS ACADEMY INDIA PRIVATE LIMITED\,3rd Floor\, Dianby World\, above RMC Super Market\, near Kalabhavan Theatre\, Vazhuthacaud\, Thiruvananthapuram\, Kerala\, 695014\, India
CATEGORIES:EVENTS CALENDAR
ATTACH;FMTTYPE=image/png:https://premierchessacademy.com/wp-content/uploads/2024/10/1_logo_-1.png
END:VEVENT
BEGIN:VEVENT
DTSTART;TZID=Asia/Kolkata:20260919T090000
DTEND;TZID=Asia/Kolkata:20260919T180000
DTSTAMP:20260424T193803
CREATED:20251127T123140Z
LAST-MODIFIED:20251127T123140Z
UID:9108-1789808400-1789840800@premierchessacademy.com
SUMMARY:Open\, World Chess Fiesta - Rapid Tournament @ Trivandrum
DESCRIPTION:Venue will be confirmed shortly. Register via ActivePass or Contact us: +91-87148 81281
URL:https://premierchessacademy.com/event/open-world-chess-fiesta-rapid-tournament-trivandrum-9/
LOCATION:Kerala
CATEGORIES:EVENTS CALENDAR
ATTACH;FMTTYPE=image/png:https://premierchessacademy.com/wp-content/uploads/2024/10/1_logo_-08.png
END:VEVENT
BEGIN:VEVENT
DTSTART;TZID=Asia/Kolkata:20260912T090000
DTEND;TZID=Asia/Kolkata:20260912T180000
DTSTAMP:20260424T193803
CREATED:20251127T124820Z
LAST-MODIFIED:20251127T124820Z
UID:9133-1789203600-1789236000@premierchessacademy.com
SUMMARY:U-15 - Junior\, World Chess Fiesta - Rapid Tournament @ Trivandrum
DESCRIPTION:Register via ActivePass or Contact us: +91-87148 81281
URL:https://premierchessacademy.com/event/u-15-junior-world-chess-fiesta-rapid-tournament-trivandrum-9/
LOCATION:PCA – TVM Location\, PREMIER CHESS ACADEMY INDIA PRIVATE LIMITED\,3rd Floor\, Dianby World\, above RMC Super Market\, near Kalabhavan Theatre\, Vazhuthacaud\, Thiruvananthapuram\, Kerala\, 695014\, India
CATEGORIES:EVENTS CALENDAR
ATTACH;FMTTYPE=image/png:https://premierchessacademy.com/wp-content/uploads/2024/10/1_logo_-1.png
END:VEVENT
BEGIN:VEVENT
DTSTART;TZID=Asia/Kolkata:20260815T090000
DTEND;TZID=Asia/Kolkata:20260815T180000
DTSTAMP:20260424T193803
CREATED:20251127T123004Z
LAST-MODIFIED:20251127T123004Z
UID:9102-1786784400-1786816800@premierchessacademy.com
SUMMARY:Open\, World Chess Fiesta - Rapid Tournament @ Trivandrum
DESCRIPTION:Venue will be confirmed shortly. Register via ActivePass or Contact us: +91-87148 81281
URL:https://premierchessacademy.com/event/open-world-chess-fiesta-rapid-tournament-trivandrum-8/
LOCATION:Kerala
CATEGORIES:EVENTS CALENDAR
ATTACH;FMTTYPE=image/png:https://premierchessacademy.com/wp-content/uploads/2024/10/1_logo_-08.png
END:VEVENT
BEGIN:VEVENT
DTSTART;TZID=Asia/Kolkata:20260808T090000
DTEND;TZID=Asia/Kolkata:20260808T180000
DTSTAMP:20260424T193803
CREATED:20251127T124724Z
LAST-MODIFIED:20251127T124724Z
UID:9131-1786179600-1786212000@premierchessacademy.com
SUMMARY:U-15 - Junior\, World Chess Fiesta - Rapid Tournament @ Trivandrum
DESCRIPTION:Register via ActivePass or Contact us: +91-87148 81281
URL:https://premierchessacademy.com/event/u-15-junior-world-chess-fiesta-rapid-tournament-trivandrum-8/
LOCATION:PCA – TVM Location\, PREMIER CHESS ACADEMY INDIA PRIVATE LIMITED\,3rd Floor\, Dianby World\, above RMC Super Market\, near Kalabhavan Theatre\, Vazhuthacaud\, Thiruvananthapuram\, Kerala\, 695014\, India
CATEGORIES:EVENTS CALENDAR
ATTACH;FMTTYPE=image/png:https://premierchessacademy.com/wp-content/uploads/2024/10/1_logo_-1.png
END:VEVENT
BEGIN:VEVENT
DTSTART;TZID=Asia/Kolkata:20260718T090000
DTEND;TZID=Asia/Kolkata:20260718T180000
DTSTAMP:20260424T193803
CREATED:20251127T122855Z
LAST-MODIFIED:20251127T122855Z
UID:9097-1784365200-1784397600@premierchessacademy.com
SUMMARY:Open\, World Chess Fiesta - Rapid Tournament @ Trivandrum
DESCRIPTION:Venue will be confirmed shortly. Register via ActivePass or Contact us: +91-87148 81281
URL:https://premierchessacademy.com/event/open-world-chess-fiesta-rapid-tournament-trivandrum-7/
LOCATION:Kerala
CATEGORIES:EVENTS CALENDAR
ATTACH;FMTTYPE=image/png:https://premierchessacademy.com/wp-content/uploads/2024/10/1_logo_-08.png
END:VEVENT
BEGIN:VEVENT
DTSTART;TZID=Asia/Kolkata:20260711T090000
DTEND;TZID=Asia/Kolkata:20260711T180000
DTSTAMP:20260424T193803
CREATED:20251127T124608Z
LAST-MODIFIED:20251127T124608Z
UID:9129-1783760400-1783792800@premierchessacademy.com
SUMMARY:U-15 - Junior\, World Chess Fiesta - Rapid Tournament @ Trivandrum
DESCRIPTION:Register via ActivePass or Contact us: +91-87148 81281
URL:https://premierchessacademy.com/event/u-15-junior-world-chess-fiesta-rapid-tournament-trivandrum-7/
LOCATION:PCA – TVM Location\, PREMIER CHESS ACADEMY INDIA PRIVATE LIMITED\,3rd Floor\, Dianby World\, above RMC Super Market\, near Kalabhavan Theatre\, Vazhuthacaud\, Thiruvananthapuram\, Kerala\, 695014\, India
CATEGORIES:EVENTS CALENDAR
ATTACH;FMTTYPE=image/png:https://premierchessacademy.com/wp-content/uploads/2024/10/1_logo_-1.png
END:VEVENT
BEGIN:VEVENT
DTSTART;TZID=Asia/Kolkata:20260627T090000
DTEND;TZID=Asia/Kolkata:20260627T180000
DTSTAMP:20260424T193803
CREATED:20251127T122707Z
LAST-MODIFIED:20251127T122707Z
UID:9095-1782550800-1782583200@premierchessacademy.com
SUMMARY:Open\, World Chess Fiesta - Rapid Tournament @ Trivandrum
DESCRIPTION:Venue will be confirmed shortly. Register via ActivePass or Contact us: +91-87148 81281
URL:https://premierchessacademy.com/event/open-world-chess-fiesta-rapid-tournament-trivandrum-6/
LOCATION:Kerala
CATEGORIES:EVENTS CALENDAR
ATTACH;FMTTYPE=image/png:https://premierchessacademy.com/wp-content/uploads/2024/10/1_logo_-08.png
END:VEVENT
BEGIN:VEVENT
DTSTART;TZID=Asia/Kolkata:20260620T090000
DTEND;TZID=Asia/Kolkata:20260620T180000
DTSTAMP:20260424T193803
CREATED:20251127T124507Z
LAST-MODIFIED:20251127T124507Z
UID:9127-1781946000-1781978400@premierchessacademy.com
SUMMARY:U-15 - Junior\, World Chess Fiesta - Rapid Tournament @ Trivandrum
DESCRIPTION:Register via ActivePass or Contact us: +91-87148 81281
URL:https://premierchessacademy.com/event/u-15-junior-world-chess-fiesta-rapid-tournament-trivandrum-6/
LOCATION:PCA – TVM Location\, PREMIER CHESS ACADEMY INDIA PRIVATE LIMITED\,3rd Floor\, Dianby World\, above RMC Super Market\, near Kalabhavan Theatre\, Vazhuthacaud\, Thiruvananthapuram\, Kerala\, 695014\, India
CATEGORIES:EVENTS CALENDAR
ATTACH;FMTTYPE=image/png:https://premierchessacademy.com/wp-content/uploads/2024/10/1_logo_-1.png
END:VEVENT
BEGIN:VEVENT
DTSTART;TZID=Asia/Kolkata:20260516T090000
DTEND;TZID=Asia/Kolkata:20260516T180000
DTSTAMP:20260424T193803
CREATED:20251127T122601Z
LAST-MODIFIED:20251127T122752Z
UID:9093-1778922000-1778954400@premierchessacademy.com
SUMMARY:Open\, World Chess Fiesta - Rapid Tournament @ Trivandrum
DESCRIPTION:Venue will be confirmed shortly. Register via ActivePass or Contact us: +91-87148 81281
URL:https://premierchessacademy.com/event/open-world-chess-fiesta-rapid-tournament-trivandrum-5/
LOCATION:Kerala
CATEGORIES:EVENTS CALENDAR
ATTACH;FMTTYPE=image/png:https://premierchessacademy.com/wp-content/uploads/2024/10/1_logo_-08.png
END:VEVENT
BEGIN:VEVENT
DTSTART;TZID=Asia/Kolkata:20260509T090000
DTEND;TZID=Asia/Kolkata:20260509T180000
DTSTAMP:20260424T193803
CREATED:20251127T124347Z
LAST-MODIFIED:20251127T124347Z
UID:9125-1778317200-1778349600@premierchessacademy.com
SUMMARY:U-15 - Junior\, World Chess Fiesta - Rapid Tournament @ Trivandrum
DESCRIPTION:Register via ActivePass or Contact us: +91-87148 81281
URL:https://premierchessacademy.com/event/u-15-junior-world-chess-fiesta-rapid-tournament-trivandrum-5/
LOCATION:PCA – TVM Location\, PREMIER CHESS ACADEMY INDIA PRIVATE LIMITED\,3rd Floor\, Dianby World\, above RMC Super Market\, near Kalabhavan Theatre\, Vazhuthacaud\, Thiruvananthapuram\, Kerala\, 695014\, India
CATEGORIES:EVENTS CALENDAR
ATTACH;FMTTYPE=image/png:https://premierchessacademy.com/wp-content/uploads/2024/10/1_logo_-1.png
END:VEVENT
BEGIN:VEVENT
DTSTART;TZID=Asia/Kolkata:20260418T090000
DTEND;TZID=Asia/Kolkata:20260418T180000
DTSTAMP:20260424T193803
CREATED:20251127T122343Z
LAST-MODIFIED:20251127T122512Z
UID:9091-1776502800-1776535200@premierchessacademy.com
SUMMARY:Open\, World Chess Fiesta - Rapid Tournament @ Trivandrum
DESCRIPTION:Venue will be confirmed shortly. Register via ActivePass or Contact us: +91-87148 81281
URL:https://premierchessacademy.com/event/open-world-chess-fiesta-rapid-tournament-trivandrum-4/
LOCATION:Kerala
CATEGORIES:EVENTS CALENDAR
ATTACH;FMTTYPE=image/png:https://premierchessacademy.com/wp-content/uploads/2024/10/1_logo_-08.png
END:VEVENT
BEGIN:VEVENT
DTSTART;TZID=Asia/Kolkata:20260411T090000
DTEND;TZID=Asia/Kolkata:20260411T180000
DTSTAMP:20260424T193803
CREATED:20251127T124240Z
LAST-MODIFIED:20251127T124240Z
UID:9123-1775898000-1775930400@premierchessacademy.com
SUMMARY:U-15 - Junior\, World Chess Fiesta - Rapid Tournament @ Trivandrum
DESCRIPTION:Register via ActivePass or Contact us: +91-87148 81281
URL:https://premierchessacademy.com/event/u-15-junior-world-chess-fiesta-rapid-tournament-trivandrum-4/
LOCATION:PCA – TVM Location\, PREMIER CHESS ACADEMY INDIA PRIVATE LIMITED\,3rd Floor\, Dianby World\, above RMC Super Market\, near Kalabhavan Theatre\, Vazhuthacaud\, Thiruvananthapuram\, Kerala\, 695014\, India
CATEGORIES:EVENTS CALENDAR
ATTACH;FMTTYPE=image/png:https://premierchessacademy.com/wp-content/uploads/2024/10/1_logo_-1.png
END:VEVENT
BEGIN:VEVENT
DTSTART;TZID=Asia/Kolkata:20260328T090000
DTEND;TZID=Asia/Kolkata:20260328T180000
DTSTAMP:20260424T193803
CREATED:20251127T122141Z
LAST-MODIFIED:20251127T122448Z
UID:9089-1774688400-1774720800@premierchessacademy.com
SUMMARY:Open\, World Chess Fiesta - Rapid Tournament @ Trivandrum
DESCRIPTION:Venue will be confirmed shortly. Register via ActivePass or Contact us: +91-87148 81281
URL:https://premierchessacademy.com/event/open-world-chess-fiesta-rapid-tournament-trivandrum-3/
LOCATION:Kerala
CATEGORIES:EVENTS CALENDAR
ATTACH;FMTTYPE=image/png:https://premierchessacademy.com/wp-content/uploads/2024/10/1_logo_-08.png
END:VEVENT
BEGIN:VEVENT
DTSTART;TZID=Asia/Kolkata:20260314T090000
DTEND;TZID=Asia/Kolkata:20260314T180000
DTSTAMP:20260424T193803
CREATED:20251127T124132Z
LAST-MODIFIED:20251127T124132Z
UID:9121-1773478800-1773511200@premierchessacademy.com
SUMMARY:U-15 - Junior\, World Chess Fiesta - Rapid Tournament @ Trivandrum
DESCRIPTION:Register via ActivePass or Contact us: +91-87148 81281
URL:https://premierchessacademy.com/event/u-15-junior-world-chess-fiesta-rapid-tournament-trivandrum-3/
LOCATION:PCA – TVM Location\, PREMIER CHESS ACADEMY INDIA PRIVATE LIMITED\,3rd Floor\, Dianby World\, above RMC Super Market\, near Kalabhavan Theatre\, Vazhuthacaud\, Thiruvananthapuram\, Kerala\, 695014\, India
CATEGORIES:EVENTS CALENDAR
ATTACH;FMTTYPE=image/png:https://premierchessacademy.com/wp-content/uploads/2024/10/1_logo_-1.png
END:VEVENT
BEGIN:VEVENT
DTSTART;TZID=Asia/Kolkata:20260221T090000
DTEND;TZID=Asia/Kolkata:20260221T180000
DTSTAMP:20260424T193803
CREATED:20251127T122044Z
LAST-MODIFIED:20251127T122412Z
UID:9087-1771664400-1771696800@premierchessacademy.com
SUMMARY:Open\, World Chess Fiesta - Rapid Tournament @ Trivandrum
DESCRIPTION:Venue will be confirmed shortly. Register via ActivePass or Contact us: +91-87148 81281
URL:https://premierchessacademy.com/event/open-world-chess-fiesta-rapid-tournament-trivandrum-2/
LOCATION:Kerala
CATEGORIES:EVENTS CALENDAR
ATTACH;FMTTYPE=image/png:https://premierchessacademy.com/wp-content/uploads/2024/10/1_logo_-08.png
END:VEVENT
BEGIN:VEVENT
DTSTART;TZID=Asia/Kolkata:20260214T090000
DTEND;TZID=Asia/Kolkata:20260214T180000
DTSTAMP:20260424T193803
CREATED:20251127T123853Z
LAST-MODIFIED:20251222T121437Z
UID:9119-1771059600-1771092000@premierchessacademy.com
SUMMARY:U-19 - Junior\, World Chess Fiesta - Rapid Tournament @ Trivandrum
DESCRIPTION:Register via ActivePass or Contact us: +91-87148 81281
URL:https://premierchessacademy.com/event/u-15-junior-world-chess-fiesta-rapid-tournament-trivandrum-2/
LOCATION:PCA – TVM Location\, PREMIER CHESS ACADEMY INDIA PRIVATE LIMITED\,3rd Floor\, Dianby World\, above RMC Super Market\, near Kalabhavan Theatre\, Vazhuthacaud\, Thiruvananthapuram\, Kerala\, 695014\, India
CATEGORIES:EVENTS CALENDAR
ATTACH;FMTTYPE=image/png:https://premierchessacademy.com/wp-content/uploads/2024/10/1_logo_-1.png
END:VEVENT
BEGIN:VEVENT
DTSTART;TZID=Asia/Kolkata:20260128T090000
DTEND;TZID=Asia/Kolkata:20260128T180000
DTSTAMP:20260424T193803
CREATED:20241023T064326Z
LAST-MODIFIED:20251127T115632Z
UID:7306-1769590800-1769623200@premierchessacademy.com
SUMMARY:Seniors\, World Chess Fiesta >=56 @ Ernakulam
DESCRIPTION:More details to be shared.
URL:https://premierchessacademy.com/event/world-chess-fiesta-40-ernakulam-12/
LOCATION:PCA EKM – Location\, Premier Chess Academy\, Ernakulam\,House No 95\,63/418A\,opp. Kendriya Vidyalaya\,Gandhi Nagar\, Kadavanthara\, Ernakulam\, Kerala\, 682029\, India
CATEGORIES:EVENTS CALENDAR
ATTACH;FMTTYPE=image/png:https://premierchessacademy.com/wp-content/uploads/2024/10/Senior.png
END:VEVENT
BEGIN:VEVENT
DTSTART;TZID=Asia/Kolkata:20260124T080000
DTEND;TZID=Asia/Kolkata:20260124T170000
DTSTAMP:20260424T193803
CREATED:20251127T125815Z
LAST-MODIFIED:20251127T125815Z
UID:9144-1769241600-1769274000@premierchessacademy.com
SUMMARY:Open\, World Chess Fiesta - "Fisher 960" Tournament @ Trivandrum
DESCRIPTION:Register via ActivePass or Contact us: +91-87148 81281
URL:https://premierchessacademy.com/event/open-world-chess-fiesta-fisher-960-tournament-trivandrum/
LOCATION:PCA – TVM Location\, PREMIER CHESS ACADEMY INDIA PRIVATE LIMITED\,3rd Floor\, Dianby World\, above RMC Super Market\, near Kalabhavan Theatre\, Vazhuthacaud\, Thiruvananthapuram\, Kerala\, 695014\, India
CATEGORIES:EVENTS CALENDAR
ATTACH;FMTTYPE=image/png:https://premierchessacademy.com/wp-content/uploads/2024/10/1_logo_-08.png
END:VEVENT
BEGIN:VEVENT
DTSTART;TZID=Asia/Kolkata:20260117T090000
DTEND;TZID=Asia/Kolkata:20260117T180000
DTSTAMP:20260424T193803
CREATED:20251127T121629Z
LAST-MODIFIED:20251127T121902Z
UID:9083-1768640400-1768672800@premierchessacademy.com
SUMMARY:Open\, World Chess Fiesta - Rapid Tournament @ Trivandrum
DESCRIPTION:Venue will be confirmed shortly. Register via ActivePass or Contact us: +91-87148 81281 \n 
URL:https://premierchessacademy.com/event/open-world-chess-fiesta-rapid-tournament-trivandrum/
LOCATION:Kerala
CATEGORIES:EVENTS CALENDAR
ATTACH;FMTTYPE=image/png:https://premierchessacademy.com/wp-content/uploads/2024/10/1_logo_-08.png
END:VEVENT
BEGIN:VEVENT
DTSTART;TZID=Asia/Kolkata:20260110T090000
DTEND;TZID=Asia/Kolkata:20260110T180000
DTSTAMP:20260424T193803
CREATED:20251127T123655Z
LAST-MODIFIED:20251222T121311Z
UID:9117-1768035600-1768068000@premierchessacademy.com
SUMMARY:U-19 - Junior\, World Chess Fiesta - Rapid Tournament @ Trivandrum
DESCRIPTION:Register via ActivePass or Contact us: +91-87148 81281
URL:https://premierchessacademy.com/event/u-15-junior-world-chess-fiesta-rapid-tournament-trivandrum/
LOCATION:PCA – TVM Location\, PREMIER CHESS ACADEMY INDIA PRIVATE LIMITED\,3rd Floor\, Dianby World\, above RMC Super Market\, near Kalabhavan Theatre\, Vazhuthacaud\, Thiruvananthapuram\, Kerala\, 695014\, India
CATEGORIES:EVENTS CALENDAR
ATTACH;FMTTYPE=image/png:https://premierchessacademy.com/wp-content/uploads/2024/10/1_logo_-1.png
END:VEVENT
BEGIN:VEVENT
DTSTART;TZID=Asia/Kolkata:20260103T090000
DTEND;TZID=Asia/Kolkata:20260103T180000
DTSTAMP:20260424T193803
CREATED:20251127T125647Z
LAST-MODIFIED:20251127T125647Z
UID:9142-1767430800-1767463200@premierchessacademy.com
SUMMARY:Open\, World Chess Fiesta - "Blitz - 05+03 sec" Tournament @ Trivandrum
DESCRIPTION:Register via ActivePass or Contact us: +91-87148 81281
URL:https://premierchessacademy.com/event/open-world-chess-fiesta-blitz-0503-sec-tournament-trivandrum/
LOCATION:PCA – TVM Location\, PREMIER CHESS ACADEMY INDIA PRIVATE LIMITED\,3rd Floor\, Dianby World\, above RMC Super Market\, near Kalabhavan Theatre\, Vazhuthacaud\, Thiruvananthapuram\, Kerala\, 695014\, India
CATEGORIES:EVENTS CALENDAR
ATTACH;FMTTYPE=image/png:https://premierchessacademy.com/wp-content/uploads/2024/10/1_logo_-08.png
END:VEVENT
BEGIN:VEVENT
DTSTART;TZID=Asia/Kolkata:20251213T090000
DTEND;TZID=Asia/Kolkata:20251213T180000
DTSTAMP:20260424T193803
CREATED:20241023T065301Z
LAST-MODIFIED:20251127T121443Z
UID:7318-1765616400-1765648800@premierchessacademy.com
SUMMARY:Open\, World Chess Fiesta - Rapid Tournament @ Trivandrum
DESCRIPTION:Register via ActivePass or Contact us: +91-87148 81281
URL:https://premierchessacademy.com/event/world-chess-fiesta-open-rapid-tournament-trivandrum/
LOCATION:Trivandrum – St.Joseph’s Open Air Auditorium\, SP Yogam Centenary Hall\,X8F8+F6G\, Mahakavi Vailoppilli Rd\, Ponnurunni\, Vyttila\, Kochi\, Ernakulam\, Kerala\, 682019\, India
CATEGORIES:EVENTS CALENDAR
ATTACH;FMTTYPE=image/png:https://premierchessacademy.com/wp-content/uploads/2024/10/1_logo_-08.png
END:VEVENT
BEGIN:VEVENT
DTSTART;TZID=Asia/Kolkata:20251122T090000
DTEND;TZID=Asia/Kolkata:20251122T180000
DTSTAMP:20260424T193803
CREATED:20241023T064232Z
LAST-MODIFIED:20241023T064232Z
UID:7304-1763802000-1763834400@premierchessacademy.com
SUMMARY:World Chess Fiesta >=40 @ Ernakulam
DESCRIPTION:More details to be shared.
URL:https://premierchessacademy.com/event/world-chess-fiesta-40-ernakulam-11/
LOCATION:YMCA Location\, YMCA International Guest House\, Cochin\,Chitoor Road Ernakulam\, Shenoys\, Kochi\, Ernakulam\, Kerala\, 682035\, India
CATEGORIES:EVENTS CALENDAR
ATTACH;FMTTYPE=image/png:https://premierchessacademy.com/wp-content/uploads/2024/10/Senior.png
END:VEVENT
BEGIN:VEVENT
DTSTART;TZID=Asia/Kolkata:20251109T090000
DTEND;TZID=Asia/Kolkata:20251109T180000
DTSTAMP:20260424T193803
CREATED:20241023T065201Z
LAST-MODIFIED:20241023T065201Z
UID:7316-1762678800-1762711200@premierchessacademy.com
SUMMARY:Minions\, World Chess Fiesta - "Open" Rapid Tournament @ Ernakulam
DESCRIPTION:Details to be uploaded soon.
URL:https://premierchessacademy.com/event/minions-world-chess-fiesta-open-rapid-tournament-ernakulam-11/
LOCATION:Trivandrum – St.Joseph’s Open Air Auditorium\, SP Yogam Centenary Hall\,X8F8+F6G\, Mahakavi Vailoppilli Rd\, Ponnurunni\, Vyttila\, Kochi\, Ernakulam\, Kerala\, 682019\, India
CATEGORIES:EVENTS CALENDAR
ATTACH;FMTTYPE=image/jpeg:https://premierchessacademy.com/wp-content/uploads/2024/10/WhatsApp-Image-2024-10-15-at-3.08.12-PM.jpeg
END:VEVENT
BEGIN:VEVENT
DTSTART;TZID=Asia/Kolkata:20251025T090000
DTEND;TZID=Asia/Kolkata:20251025T180000
DTSTAMP:20260424T193803
CREATED:20241023T064137Z
LAST-MODIFIED:20241023T064137Z
UID:7302-1761382800-1761415200@premierchessacademy.com
SUMMARY:World Chess Fiesta >=40 @ Ernakulam
DESCRIPTION:More details to be shared.
URL:https://premierchessacademy.com/event/world-chess-fiesta-40-ernakulam-10/
LOCATION:YMCA Location\, YMCA International Guest House\, Cochin\,Chitoor Road Ernakulam\, Shenoys\, Kochi\, Ernakulam\, Kerala\, 682035\, India
CATEGORIES:EVENTS CALENDAR
ATTACH;FMTTYPE=image/png:https://premierchessacademy.com/wp-content/uploads/2024/10/Senior.png
END:VEVENT
BEGIN:VEVENT
DTSTART;TZID=Asia/Kolkata:20251012T090000
DTEND;TZID=Asia/Kolkata:20251012T180000
DTSTAMP:20260424T193803
CREATED:20241023T065107Z
LAST-MODIFIED:20241023T065107Z
UID:7314-1760259600-1760292000@premierchessacademy.com
SUMMARY:Minions\, World Chess Fiesta - "Open" Rapid Tournament @ Ernakulam
DESCRIPTION:Details to be uploaded soon.
URL:https://premierchessacademy.com/event/minions-world-chess-fiesta-open-rapid-tournament-ernakulam-10/
LOCATION:Trivandrum – St.Joseph’s Open Air Auditorium\, SP Yogam Centenary Hall\,X8F8+F6G\, Mahakavi Vailoppilli Rd\, Ponnurunni\, Vyttila\, Kochi\, Ernakulam\, Kerala\, 682019\, India
CATEGORIES:EVENTS CALENDAR
ATTACH;FMTTYPE=image/jpeg:https://premierchessacademy.com/wp-content/uploads/2024/10/WhatsApp-Image-2024-10-15-at-3.08.12-PM.jpeg
END:VEVENT
BEGIN:VEVENT
DTSTART;TZID=Asia/Kolkata:20250927T090000
DTEND;TZID=Asia/Kolkata:20250927T180000
DTSTAMP:20260424T193803
CREATED:20241023T064042Z
LAST-MODIFIED:20241023T064042Z
UID:7300-1758963600-1758996000@premierchessacademy.com
SUMMARY:World Chess Fiesta >=40 @ Ernakulam
DESCRIPTION:More details to be shared.
URL:https://premierchessacademy.com/event/world-chess-fiesta-40-ernakulam-9/
LOCATION:YMCA Location\, YMCA International Guest House\, Cochin\,Chitoor Road Ernakulam\, Shenoys\, Kochi\, Ernakulam\, Kerala\, 682035\, India
CATEGORIES:EVENTS CALENDAR
ATTACH;FMTTYPE=image/png:https://premierchessacademy.com/wp-content/uploads/2024/10/Senior.png
END:VEVENT
BEGIN:VEVENT
DTSTART;TZID=Asia/Kolkata:20250914T090000
DTEND;TZID=Asia/Kolkata:20250914T180000
DTSTAMP:20260424T193803
CREATED:20241023T065013Z
LAST-MODIFIED:20241023T065013Z
UID:7312-1757840400-1757872800@premierchessacademy.com
SUMMARY:Minions\, World Chess Fiesta - "Open" Rapid Tournament @ Ernakulam
DESCRIPTION:Details to be uploaded soon.
URL:https://premierchessacademy.com/event/minions-world-chess-fiesta-open-rapid-tournament-ernakulam-9/
LOCATION:Trivandrum – St.Joseph’s Open Air Auditorium\, SP Yogam Centenary Hall\,X8F8+F6G\, Mahakavi Vailoppilli Rd\, Ponnurunni\, Vyttila\, Kochi\, Ernakulam\, Kerala\, 682019\, India
CATEGORIES:EVENTS CALENDAR
ATTACH;FMTTYPE=image/jpeg:https://premierchessacademy.com/wp-content/uploads/2024/10/WhatsApp-Image-2024-10-15-at-3.08.12-PM.jpeg
END:VEVENT
END:VCALENDAR