BEGIN:VCALENDAR
VERSION:2.0
PRODID:-//Premier Chess Academy Corporation - ECPv6.15.11//NONSGML v1.0//EN
CALSCALE:GREGORIAN
METHOD:PUBLISH
X-ORIGINAL-URL:https://premierchessacademy.com
X-WR-CALDESC:Events for Premier Chess Academy Corporation
REFRESH-INTERVAL;VALUE=DURATION:PT1H
X-Robots-Tag:noindex
X-PUBLISHED-TTL:PT1H
BEGIN:VTIMEZONE
TZID:Asia/Kolkata
BEGIN:STANDARD
TZOFFSETFROM:+0530
TZOFFSETTO:+0530
TZNAME:IST
DTSTART:20230101T000000
END:STANDARD
END:VTIMEZONE
BEGIN:VEVENT
DTSTART;TZID=Asia/Kolkata:20241123T083000
DTEND;TZID=Asia/Kolkata:20241123T170000
DTSTAMP:20260424T005606
CREATED:20241016T063124Z
LAST-MODIFIED:20241016T093742Z
UID:7181-1732350600-1732381200@premierchessacademy.com
SUMMARY:Juniors\, U-15 - World Chess Fiesta @ Trivandrum
DESCRIPTION:November 2024 – Chess Tournament – World Chess Fiesta\, Junior (Scholarships for kids!)\nBring Out the Chess Champions in your Kids!\n\n  \nBrochure Link: Click to View \n\n\nRegister @ https://bit.ly/register-wcfjuniors or call +91-8714881281 for more information\n\n\n\nScholarship (Read Carefully!):\n\n\nOfficial; 👦👧 Upto Rs.4.8 Lakhs – Chess Scholarships for India – National & International Tournament! 🥳 🎉 Play & Earn the Scholarship on “every win” – World Chess Fiesta\, Junior (Finale\, Clash Of Titans Only)… \n\n🥇 1st prize;\n💵 Rs.10\,000 for National\n💵 Rs.20\,000 for International ✈️\n🥈 2nd prize;\n💵 Rs.7\,500 for National\n⁠💵 Rs.15\,000 for International ✈️\n🥉 3rd prize;\n💵 Rs.5\,000 for National\n⁠💵 Rs.10\,000 for International ✈️\n\nWhy this decision of scholarship restricted to players?!\n– Growth is mutual\, the more the players contribute to the tournament eco system – the more benefit they will receive.\n– ⁠We want to nurture and bring out the champions through this tournament and support them all the way till they reach international level. \nExample;\n– ⁠Joe had participated in WFC Junior\, Ernakulam 24 times (since 2024 October and won 1st position in Finale – Clash Of Titans – 24 times).\n– ⁠Joe got selected for International in 2026 October.\n– ⁠Joe can claim Rs.4\,80\,000 (Rs.20\,000 * 24 times) for his win 🥇 for the international tournament \nConditions apply;\n– Scholarships effective from October 2024\, World Chess Fiesta – Junior – Finale – Clash of Titans tournament.\n– Scholarship claim to be requested 30 days before the National or International event by email to support@premierchessacademy.com\n– Parents to submit documents (checklist will be provided) of financial hardship. Total income of both parents not to exceed Rs.10 Lakhs.\n– ⁠Scholarship eligible only for National (through selection only\, no direct entry) or International selected kids- proof to be submitted\n– ⁠Tournament considered for the Scholarship; World Chess Fiesta\, Junior – (Finale\, Clash Of Titans Only)\, can play in any cities on monthly basis.\n– ⁠Minimum – 3 tournament (Finale\, Clash Of Titans) participation’s to deter someone to win and claim immediately.\n– ⁠Number of wins considered of 2 years rolling look backs.\n– ⁠Age limit to avail scholarship – 15 Years.\n– ⁠Amount reset to 0 after every successful claim.\n– Participation for this event is voluntary for kids and parents. By participating in the event\, the parent/kid agrees to the terms and conditions put forth by Premier Chess Academy Corporation\, USA.\n– ⁠Decision of scholarship is fully at the discretion of Premier Chess Academy and decision made will be final.\n– ⁠Premier Chess Academy reserve to cancel this sponsorship anytime without any explanation.\n– Premier Chess Academy won’t take any responsibility for any legal issues coming out of these events.\n– Premier Chess Academy reserve the right to expel participants from the tournament if they violate the rules\, engage in unsportsmanlike conduct\, or behave in a manner that disrupts the event or compromises its integrity.\n– Weather conditions\, Natural disaster or Political events may necessitate potential rescheduling\, relocation\, or cancellation of the World Chess Fiesta\, Junior events to ensure the safety and well-being of all participants
URL:https://premierchessacademy.com/event/juniors-u-15-world-chess-fiesta-trivandrum/
LOCATION:PCA – TVM Location\, PREMIER CHESS ACADEMY INDIA PRIVATE LIMITED\,3rd Floor\, Dianby World\, above RMC Super Market\, near Kalabhavan Theatre\, Vazhuthacaud\, Thiruvananthapuram\, Kerala\, 695014\, India
CATEGORIES:EVENTS CALENDAR
ATTACH;FMTTYPE=image/png:https://premierchessacademy.com/wp-content/uploads/2024/10/1_logo_-1.png
END:VEVENT
BEGIN:VEVENT
DTSTART;TZID=Asia/Kolkata:20241123T083000
DTEND;TZID=Asia/Kolkata:20241123T170000
DTSTAMP:20260424T005606
CREATED:20241016T062926Z
LAST-MODIFIED:20241016T093655Z
UID:7179-1732350600-1732381200@premierchessacademy.com
SUMMARY:Juniors\, U-15 - World Chess Fiesta @ Ernakulam
DESCRIPTION:November 2024 – Chess Tournament – World Chess Fiesta\, Junior (Scholarships for kids!)\nBring Out the Chess Champions in your Kids!\n\n  \nBrochure Link: Click to View \n\n\nRegister @ https://bit.ly/register-wcfjuniors or call +91-8714881281 for more information\n\n\n\nScholarship (Read Carefully!):\n\n\nOfficial; 👦👧 Upto Rs.4.8 Lakhs – Chess Scholarships for India – National & International Tournament! 🥳 🎉 Play & Earn the Scholarship on “every win” – World Chess Fiesta\, Junior (Finale\, Clash Of Titans Only)… \n\n🥇 1st prize;\n💵 Rs.10\,000 for National\n💵 Rs.20\,000 for International ✈️\n🥈 2nd prize;\n💵 Rs.7\,500 for National\n⁠💵 Rs.15\,000 for International ✈️\n🥉 3rd prize;\n💵 Rs.5\,000 for National\n⁠💵 Rs.10\,000 for International ✈️\n\nWhy this decision of scholarship restricted to players?!\n– Growth is mutual\, the more the players contribute to the tournament eco system – the more benefit they will receive.\n– ⁠We want to nurture and bring out the champions through this tournament and support them all the way till they reach international level. \nExample;\n– ⁠Joe had participated in WFC Junior\, Ernakulam 24 times (since 2024 October and won 1st position in Finale – Clash Of Titans – 24 times).\n– ⁠Joe got selected for International in 2026 October.\n– ⁠Joe can claim Rs.4\,80\,000 (Rs.20\,000 * 24 times) for his win 🥇 for the international tournament \nConditions apply;\n– Scholarships effective from October 2024\, World Chess Fiesta – Junior – Finale – Clash of Titans tournament.\n– Scholarship claim to be requested 30 days before the National or International event by email to support@premierchessacademy.com\n– Parents to submit documents (checklist will be provided) of financial hardship. Total income of both parents not to exceed Rs.10 Lakhs.\n– ⁠Scholarship eligible only for National (through selection only\, no direct entry) or International selected kids- proof to be submitted\n– ⁠Tournament considered for the Scholarship; World Chess Fiesta\, Junior – (Finale\, Clash Of Titans Only)\, can play in any cities on monthly basis.\n– ⁠Minimum – 3 tournament (Finale\, Clash Of Titans) participation’s to deter someone to win and claim immediately.\n– ⁠Number of wins considered of 2 years rolling look backs.\n– ⁠Age limit to avail scholarship – 15 Years.\n– ⁠Amount reset to 0 after every successful claim.\n– Participation for this event is voluntary for kids and parents. By participating in the event\, the parent/kid agrees to the terms and conditions put forth by Premier Chess Academy Corporation\, USA.\n– ⁠Decision of scholarship is fully at the discretion of Premier Chess Academy and decision made will be final.\n– ⁠Premier Chess Academy reserve to cancel this sponsorship anytime without any explanation.\n– Premier Chess Academy won’t take any responsibility for any legal issues coming out of these events.\n– Premier Chess Academy reserve the right to expel participants from the tournament if they violate the rules\, engage in unsportsmanlike conduct\, or behave in a manner that disrupts the event or compromises its integrity.\n– Weather conditions\, Natural disaster or Political events may necessitate potential rescheduling\, relocation\, or cancellation of the World Chess Fiesta\, Junior events to ensure the safety and well-being of all participants
URL:https://premierchessacademy.com/event/juniors-u-15-world-chess-fiesta-ernakulam/
LOCATION:PCA EKM – Location\, Premier Chess Academy\, Ernakulam\,House No 95\,63/418A\,opp. Kendriya Vidyalaya\,Gandhi Nagar\, Kadavanthara\, Ernakulam\, Kerala\, 682029\, India
CATEGORIES:EVENTS CALENDAR
ATTACH;FMTTYPE=image/png:https://premierchessacademy.com/wp-content/uploads/2024/10/1_logo_-1.png
END:VEVENT
BEGIN:VEVENT
DTSTART;TZID=Asia/Kolkata:20241116T083000
DTEND;TZID=Asia/Kolkata:20241116T170000
DTSTAMP:20260424T005606
CREATED:20241016T062745Z
LAST-MODIFIED:20241016T093613Z
UID:7176-1731745800-1731776400@premierchessacademy.com
SUMMARY:Juniors\, U-12 - World Chess Fiesta @ Trivandrum
DESCRIPTION:November 2024 – Chess Tournament – World Chess Fiesta\, Junior (Scholarships for kids!)\nBring Out the Chess Champions in your Kids!\n\n  \nBrochure Link: Click to View \n\n\nRegister @ https://bit.ly/register-wcfjuniors or call +91-8714881281 for more information\n\n\n\nScholarship (Read Carefully!):\n\n\nOfficial; 👦👧 Upto Rs.4.8 Lakhs – Chess Scholarships for India – National & International Tournament! 🥳 🎉 Play & Earn the Scholarship on “every win” – World Chess Fiesta\, Junior (Finale\, Clash Of Titans Only)… \n\n🥇 1st prize;\n💵 Rs.10\,000 for National\n💵 Rs.20\,000 for International ✈️\n🥈 2nd prize;\n💵 Rs.7\,500 for National\n⁠💵 Rs.15\,000 for International ✈️\n🥉 3rd prize;\n💵 Rs.5\,000 for National\n⁠💵 Rs.10\,000 for International ✈️\n\nWhy this decision of scholarship restricted to players?!\n– Growth is mutual\, the more the players contribute to the tournament eco system – the more benefit they will receive.\n– ⁠We want to nurture and bring out the champions through this tournament and support them all the way till they reach international level. \nExample;\n– ⁠Joe had participated in WFC Junior\, Ernakulam 24 times (since 2024 October and won 1st position in Finale – Clash Of Titans – 24 times).\n– ⁠Joe got selected for International in 2026 October.\n– ⁠Joe can claim Rs.4\,80\,000 (Rs.20\,000 * 24 times) for his win 🥇 for the international tournament \nConditions apply;\n– Scholarships effective from October 2024\, World Chess Fiesta – Junior – Finale – Clash of Titans tournament.\n– Scholarship claim to be requested 30 days before the National or International event by email to support@premierchessacademy.com\n– Parents to submit documents (checklist will be provided) of financial hardship. Total income of both parents not to exceed Rs.10 Lakhs.\n– ⁠Scholarship eligible only for National (through selection only\, no direct entry) or International selected kids- proof to be submitted\n– ⁠Tournament considered for the Scholarship; World Chess Fiesta\, Junior – (Finale\, Clash Of Titans Only)\, can play in any cities on monthly basis.\n– ⁠Minimum – 3 tournament (Finale\, Clash Of Titans) participation’s to deter someone to win and claim immediately.\n– ⁠Number of wins considered of 2 years rolling look backs.\n– ⁠Age limit to avail scholarship – 15 Years.\n– ⁠Amount reset to 0 after every successful claim.\n– Participation for this event is voluntary for kids and parents. By participating in the event\, the parent/kid agrees to the terms and conditions put forth by Premier Chess Academy Corporation\, USA.\n– ⁠Decision of scholarship is fully at the discretion of Premier Chess Academy and decision made will be final.\n– ⁠Premier Chess Academy reserve to cancel this sponsorship anytime without any explanation.\n– Premier Chess Academy won’t take any responsibility for any legal issues coming out of these events.\n– Premier Chess Academy reserve the right to expel participants from the tournament if they violate the rules\, engage in unsportsmanlike conduct\, or behave in a manner that disrupts the event or compromises its integrity.\n– Weather conditions\, Natural disaster or Political events may necessitate potential rescheduling\, relocation\, or cancellation of the World Chess Fiesta\, Junior events to ensure the safety and well-being of all participants
URL:https://premierchessacademy.com/event/juniors-u-12-world-chess-fiesta-trivandrum/
LOCATION:PCA – TVM Location\, PREMIER CHESS ACADEMY INDIA PRIVATE LIMITED\,3rd Floor\, Dianby World\, above RMC Super Market\, near Kalabhavan Theatre\, Vazhuthacaud\, Thiruvananthapuram\, Kerala\, 695014\, India
CATEGORIES:EVENTS CALENDAR
ATTACH;FMTTYPE=image/png:https://premierchessacademy.com/wp-content/uploads/2024/10/1_logo_-1.png
END:VEVENT
BEGIN:VEVENT
DTSTART;TZID=Asia/Kolkata:20241116T083000
DTEND;TZID=Asia/Kolkata:20241116T170000
DTSTAMP:20260424T005606
CREATED:20241016T062630Z
LAST-MODIFIED:20241016T093522Z
UID:7173-1731745800-1731776400@premierchessacademy.com
SUMMARY:Juniors\, U-12 - World Chess Fiesta @ Ernakulam
DESCRIPTION:November 2024 – Chess Tournament – World Chess Fiesta\, Junior (Scholarships for kids!)\nBring Out the Chess Champions in your Kids!\n\n  \nBrochure Link: Click to View \n\n\nRegister @ https://bit.ly/register-wcfjuniors or call +91-8714881281 for more information\n\n\n\nScholarship (Read Carefully!):\n\n\nOfficial; 👦👧 Upto Rs.4.8 Lakhs – Chess Scholarships for India – National & International Tournament! 🥳 🎉 Play & Earn the Scholarship on “every win” – World Chess Fiesta\, Junior (Finale\, Clash Of Titans Only)… \n\n🥇 1st prize;\n💵 Rs.10\,000 for National\n💵 Rs.20\,000 for International ✈️\n🥈 2nd prize;\n💵 Rs.7\,500 for National\n⁠💵 Rs.15\,000 for International ✈️\n🥉 3rd prize;\n💵 Rs.5\,000 for National\n⁠💵 Rs.10\,000 for International ✈️\n\nWhy this decision of scholarship restricted to players?!\n– Growth is mutual\, the more the players contribute to the tournament eco system – the more benefit they will receive.\n– ⁠We want to nurture and bring out the champions through this tournament and support them all the way till they reach international level. \nExample;\n– ⁠Joe had participated in WFC Junior\, Ernakulam 24 times (since 2024 October and won 1st position in Finale – Clash Of Titans – 24 times).\n– ⁠Joe got selected for International in 2026 October.\n– ⁠Joe can claim Rs.4\,80\,000 (Rs.20\,000 * 24 times) for his win 🥇 for the international tournament \nConditions apply;\n– Scholarships effective from October 2024\, World Chess Fiesta – Junior – Finale – Clash of Titans tournament.\n– Scholarship claim to be requested 30 days before the National or International event by email to support@premierchessacademy.com\n– Parents to submit documents (checklist will be provided) of financial hardship. Total income of both parents not to exceed Rs.10 Lakhs.\n– ⁠Scholarship eligible only for National (through selection only\, no direct entry) or International selected kids- proof to be submitted\n– ⁠Tournament considered for the Scholarship; World Chess Fiesta\, Junior – (Finale\, Clash Of Titans Only)\, can play in any cities on monthly basis.\n– ⁠Minimum – 3 tournament (Finale\, Clash Of Titans) participation’s to deter someone to win and claim immediately.\n– ⁠Number of wins considered of 2 years rolling look backs.\n– ⁠Age limit to avail scholarship – 15 Years.\n– ⁠Amount reset to 0 after every successful claim.\n– Participation for this event is voluntary for kids and parents. By participating in the event\, the parent/kid agrees to the terms and conditions put forth by Premier Chess Academy Corporation\, USA.\n– ⁠Decision of scholarship is fully at the discretion of Premier Chess Academy and decision made will be final.\n– ⁠Premier Chess Academy reserve to cancel this sponsorship anytime without any explanation.\n– Premier Chess Academy won’t take any responsibility for any legal issues coming out of these events.\n– Premier Chess Academy reserve the right to expel participants from the tournament if they violate the rules\, engage in unsportsmanlike conduct\, or behave in a manner that disrupts the event or compromises its integrity.\n– Weather conditions\, Natural disaster or Political events may necessitate potential rescheduling\, relocation\, or cancellation of the World Chess Fiesta\, Junior events to ensure the safety and well-being of all participants
URL:https://premierchessacademy.com/event/juniors-u-12-world-chess-fiesta-ernakulam/
LOCATION:PCA EKM – Location\, Premier Chess Academy\, Ernakulam\,House No 95\,63/418A\,opp. Kendriya Vidyalaya\,Gandhi Nagar\, Kadavanthara\, Ernakulam\, Kerala\, 682029\, India
CATEGORIES:EVENTS CALENDAR
ATTACH;FMTTYPE=image/png:https://premierchessacademy.com/wp-content/uploads/2024/10/1_logo_-1.png
END:VEVENT
BEGIN:VEVENT
DTSTART;TZID=Asia/Kolkata:20241109T083000
DTEND;TZID=Asia/Kolkata:20241109T170000
DTSTAMP:20260424T005606
CREATED:20241016T062453Z
LAST-MODIFIED:20241016T093446Z
UID:7171-1731141000-1731171600@premierchessacademy.com
SUMMARY:Juniors\, U-09 - World Chess Fiesta @ Trivandrum
DESCRIPTION:November 2024 – Chess Tournament – World Chess Fiesta\, Junior (Scholarships for kids!)\nBring Out the Chess Champions in your Kids!\n\n  \nBrochure Link: Click to View \n\n\nRegister @ https://bit.ly/register-wcfjuniors or call +91-8714881281 for more information\n\n\n\nScholarship (Read Carefully!):\n\n\nOfficial; 👦👧 Upto Rs.4.8 Lakhs – Chess Scholarships for India – National & International Tournament! 🥳 🎉 Play & Earn the Scholarship on “every win” – World Chess Fiesta\, Junior (Finale\, Clash Of Titans Only)… \n\n🥇 1st prize;\n💵 Rs.10\,000 for National\n💵 Rs.20\,000 for International ✈️\n🥈 2nd prize;\n💵 Rs.7\,500 for National\n⁠💵 Rs.15\,000 for International ✈️\n🥉 3rd prize;\n💵 Rs.5\,000 for National\n⁠💵 Rs.10\,000 for International ✈️\n\nWhy this decision of scholarship restricted to players?!\n– Growth is mutual\, the more the players contribute to the tournament eco system – the more benefit they will receive.\n– ⁠We want to nurture and bring out the champions through this tournament and support them all the way till they reach international level. \nExample;\n– ⁠Joe had participated in WFC Junior\, Ernakulam 24 times (since 2024 October and won 1st position in Finale – Clash Of Titans – 24 times).\n– ⁠Joe got selected for International in 2026 October.\n– ⁠Joe can claim Rs.4\,80\,000 (Rs.20\,000 * 24 times) for his win 🥇 for the international tournament \nConditions apply;\n– Scholarships effective from October 2024\, World Chess Fiesta – Junior – Finale – Clash of Titans tournament.\n– Scholarship claim to be requested 30 days before the National or International event by email to support@premierchessacademy.com\n– Parents to submit documents (checklist will be provided) of financial hardship. Total income of both parents not to exceed Rs.10 Lakhs.\n– ⁠Scholarship eligible only for National (through selection only\, no direct entry) or International selected kids- proof to be submitted\n– ⁠Tournament considered for the Scholarship; World Chess Fiesta\, Junior – (Finale\, Clash Of Titans Only)\, can play in any cities on monthly basis.\n– ⁠Minimum – 3 tournament (Finale\, Clash Of Titans) participation’s to deter someone to win and claim immediately.\n– ⁠Number of wins considered of 2 years rolling look backs.\n– ⁠Age limit to avail scholarship – 15 Years.\n– ⁠Amount reset to 0 after every successful claim.\n– Participation for this event is voluntary for kids and parents. By participating in the event\, the parent/kid agrees to the terms and conditions put forth by Premier Chess Academy Corporation\, USA.\n– ⁠Decision of scholarship is fully at the discretion of Premier Chess Academy and decision made will be final.\n– ⁠Premier Chess Academy reserve to cancel this sponsorship anytime without any explanation.\n– Premier Chess Academy won’t take any responsibility for any legal issues coming out of these events.\n– Premier Chess Academy reserve the right to expel participants from the tournament if they violate the rules\, engage in unsportsmanlike conduct\, or behave in a manner that disrupts the event or compromises its integrity.\n– Weather conditions\, Natural disaster or Political events may necessitate potential rescheduling\, relocation\, or cancellation of the World Chess Fiesta\, Junior events to ensure the safety and well-being of all participants
URL:https://premierchessacademy.com/event/juniors-u-09-world-chess-fiesta-trivandrum/
LOCATION:PCA – TVM Location\, PREMIER CHESS ACADEMY INDIA PRIVATE LIMITED\,3rd Floor\, Dianby World\, above RMC Super Market\, near Kalabhavan Theatre\, Vazhuthacaud\, Thiruvananthapuram\, Kerala\, 695014\, India
CATEGORIES:EVENTS CALENDAR
ATTACH;FMTTYPE=image/png:https://premierchessacademy.com/wp-content/uploads/2024/10/1_logo_-1.png
END:VEVENT
BEGIN:VEVENT
DTSTART;TZID=Asia/Kolkata:20241109T083000
DTEND;TZID=Asia/Kolkata:20241109T170000
DTSTAMP:20260424T005606
CREATED:20241016T061439Z
LAST-MODIFIED:20241016T093349Z
UID:7166-1731141000-1731171600@premierchessacademy.com
SUMMARY:Juniors\, U-09 - World Chess Fiesta @ Ernakulam
DESCRIPTION:November 2024 – Chess Tournament – World Chess Fiesta\, Junior (Scholarships for kids!)\nBring Out the Chess Champions in your Kids!\n\n  \nBrochure Link: Click to View \n\n\nRegister @ https://bit.ly/register-wcfjuniors or call +91-8714881281 for more information\n\n\n\nScholarship (Read Carefully!):\n\n\nOfficial; 👦👧 Upto Rs.4.8 Lakhs – Chess Scholarships for India – National & International Tournament! 🥳 🎉 Play & Earn the Scholarship on “every win” – World Chess Fiesta\, Junior (Finale\, Clash Of Titans Only)… \n\n🥇 1st prize;\n💵 Rs.10\,000 for National\n💵 Rs.20\,000 for International ✈️\n🥈 2nd prize;\n💵 Rs.7\,500 for National\n⁠💵 Rs.15\,000 for International ✈️\n🥉 3rd prize;\n💵 Rs.5\,000 for National\n⁠💵 Rs.10\,000 for International ✈️\n\nWhy this decision of scholarship restricted to players?!\n– Growth is mutual\, the more the players contribute to the tournament eco system – the more benefit they will receive.\n– ⁠We want to nurture and bring out the champions through this tournament and support them all the way till they reach international level. \nExample;\n– ⁠Joe had participated in WFC Junior\, Ernakulam 24 times (since 2024 October and won 1st position in Finale – Clash Of Titans – 24 times).\n– ⁠Joe got selected for International in 2026 October.\n– ⁠Joe can claim Rs.4\,80\,000 (Rs.20\,000 * 24 times) for his win 🥇 for the international tournament \nConditions apply;\n– Scholarships effective from October 2024\, World Chess Fiesta – Junior – Finale – Clash of Titans tournament.\n– Scholarship claim to be requested 30 days before the National or International event by email to support@premierchessacademy.com\n– Parents to submit documents (checklist will be provided) of financial hardship. Total income of both parents not to exceed Rs.10 Lakhs.\n– ⁠Scholarship eligible only for National (through selection only\, no direct entry) or International selected kids- proof to be submitted\n– ⁠Tournament considered for the Scholarship; World Chess Fiesta\, Junior – (Finale\, Clash Of Titans Only)\, can play in any cities on monthly basis.\n– ⁠Minimum – 3 tournament (Finale\, Clash Of Titans) participation’s to deter someone to win and claim immediately.\n– ⁠Number of wins considered of 2 years rolling look backs.\n– ⁠Age limit to avail scholarship – 15 Years.\n– ⁠Amount reset to 0 after every successful claim.\n– Participation for this event is voluntary for kids and parents. By participating in the event\, the parent/kid agrees to the terms and conditions put forth by Premier Chess Academy Corporation\, USA.\n– ⁠Decision of scholarship is fully at the discretion of Premier Chess Academy and decision made will be final.\n– ⁠Premier Chess Academy reserve to cancel this sponsorship anytime without any explanation.\n– Premier Chess Academy won’t take any responsibility for any legal issues coming out of these events.\n– Premier Chess Academy reserve the right to expel participants from the tournament if they violate the rules\, engage in unsportsmanlike conduct\, or behave in a manner that disrupts the event or compromises its integrity.\n– Weather conditions\, Natural disaster or Political events may necessitate potential rescheduling\, relocation\, or cancellation of the World Chess Fiesta\, Junior events to ensure the safety and well-being of all participants
URL:https://premierchessacademy.com/event/juniors-u-09-world-chess-fiesta-ernakulam/
LOCATION:PCA EKM – Location\, Premier Chess Academy\, Ernakulam\,House No 95\,63/418A\,opp. Kendriya Vidyalaya\,Gandhi Nagar\, Kadavanthara\, Ernakulam\, Kerala\, 682029\, India
CATEGORIES:EVENTS CALENDAR
ATTACH;FMTTYPE=image/png:https://premierchessacademy.com/wp-content/uploads/2024/10/1_logo_-1.png
END:VEVENT
BEGIN:VEVENT
DTSTART;TZID=Asia/Kolkata:20241029T160000
DTEND;TZID=Asia/Kolkata:20241029T190000
DTSTAMP:20260424T005606
CREATED:20241027T022645Z
LAST-MODIFIED:20241027T022645Z
UID:7392-1730217600-1730228400@premierchessacademy.com
SUMMARY:Daily Chess Practice (Upto 3 Hours)
DESCRIPTION:Hola 👋 Ernakulam- Daily (Upto 3 hours practice)!\nPractice & learn with Coaches Of Premier Chess Academy!\nPlay\, learn and practice with Coaches Of Premier Chess Academy & other enrolled players. \nCommercials: \n\nFree for Premier Chess Academy enrolled kids\n⁠Rs.250/-day or Rs.999/-monthly chess gym membership for others\n\nRegister: \n\nCall or WhatsApp to register; +91 97461 61281
URL:https://premierchessacademy.com/event/daily-chess-practice-upto-3-hours-3/
LOCATION:PCA EKM – Location\, Premier Chess Academy\, Ernakulam\,House No 95\,63/418A\,opp. Kendriya Vidyalaya\,Gandhi Nagar\, Kadavanthara\, Ernakulam\, Kerala\, 682029\, India
CATEGORIES:EVENTS CALENDAR
ATTACH;FMTTYPE=image/png:https://premierchessacademy.com/wp-content/uploads/2024/10/Practice.png
END:VEVENT
BEGIN:VEVENT
DTSTART;TZID=Asia/Kolkata:20241028T160000
DTEND;TZID=Asia/Kolkata:20241028T190000
DTSTAMP:20260424T005606
CREATED:20241027T022503Z
LAST-MODIFIED:20241027T022503Z
UID:7390-1730131200-1730142000@premierchessacademy.com
SUMMARY:Daily Chess Practice (Upto 3 Hours)
DESCRIPTION:Hola 👋 Ernakulam- Daily (Upto 3 hours practice)!\nPractice & learn with Coaches Of Premier Chess Academy!\nPlay\, learn and practice with Coaches Of Premier Chess Academy & other enrolled players. \nCommercials: \n\nFree for Premier Chess Academy enrolled kids\n⁠Rs.250/-day or Rs.999/-monthly chess gym membership for others\n\nRegister: \n\nCall or WhatsApp to register; +91 97461 61281
URL:https://premierchessacademy.com/event/daily-chess-practice-upto-3-hours-2/
LOCATION:PCA EKM – Location\, Premier Chess Academy\, Ernakulam\,House No 95\,63/418A\,opp. Kendriya Vidyalaya\,Gandhi Nagar\, Kadavanthara\, Ernakulam\, Kerala\, 682029\, India
CATEGORIES:EVENTS CALENDAR
ATTACH;FMTTYPE=image/png:https://premierchessacademy.com/wp-content/uploads/2024/10/Practice.png
END:VEVENT
BEGIN:VEVENT
DTSTART;TZID=Asia/Kolkata:20241027T160000
DTEND;TZID=Asia/Kolkata:20241027T190000
DTSTAMP:20260424T005606
CREATED:20241021T055603Z
LAST-MODIFIED:20241027T022538Z
UID:7278-1730044800-1730055600@premierchessacademy.com
SUMMARY:Daily Chess Practice (Upto 3 hours)
DESCRIPTION:Hola 👋 Ernakulam- Daily (Upto 3 hours practice)!\nPractice & learn with Coaches Of Premier Chess Academy!\nPlay\, learn and practice with Coaches Of Premier Chess Academy & other enrolled players. \nCommercials: \n\nFree for Premier Chess Academy enrolled kids\n⁠Rs.250/-day or Rs.999/-monthly chess gym membership for others\n\nRegister: \n\nCall or WhatsApp to register; +91 97461 61281
URL:https://premierchessacademy.com/event/daily-chess-practice-upto-3-hours-with-mohammed-salih-9/
LOCATION:PCA EKM – Location\, Premier Chess Academy\, Ernakulam\,House No 95\,63/418A\,opp. Kendriya Vidyalaya\,Gandhi Nagar\, Kadavanthara\, Ernakulam\, Kerala\, 682029\, India
CATEGORIES:EVENTS CALENDAR
ATTACH;FMTTYPE=image/png:https://premierchessacademy.com/wp-content/uploads/2024/10/Practice.png
END:VEVENT
BEGIN:VEVENT
DTSTART;TZID=Asia/Kolkata:20241021T160000
DTEND;TZID=Asia/Kolkata:20241021T190000
DTSTAMP:20260424T005606
CREATED:20241021T054416Z
LAST-MODIFIED:20241021T054937Z
UID:7264-1729526400-1729537200@premierchessacademy.com
SUMMARY:Daily Chess Practice (Upto 3 hours)
DESCRIPTION:Hola 👋 Ernakulam- Daily (Upto 3 hours practice)!\nPractice & learn with Coaches Of Premier Chess Academy!\nPlay\, learn and practice with Coaches Of Premier Chess Academy & other enrolled players. \nCommercials: \n\nFree for Premier Chess Academy enrolled kids\n⁠Rs.250/-day or Rs.999/-monthly chess gym membership for others\n\nRegister: \n\nCall or WhatsApp to register; +91 97461 61281
URL:https://premierchessacademy.com/event/daily-chess-practice-upto-3-hours/
LOCATION:PCA EKM – Location\, Premier Chess Academy\, Ernakulam\,House No 95\,63/418A\,opp. Kendriya Vidyalaya\,Gandhi Nagar\, Kadavanthara\, Ernakulam\, Kerala\, 682029\, India
CATEGORIES:EVENTS CALENDAR
ATTACH;FMTTYPE=image/png:https://premierchessacademy.com/wp-content/uploads/2024/10/Practice.png
END:VEVENT
END:VCALENDAR